BEGIN:VCALENDAR
VERSION:2.0
PRODID:-//Dóczy Gimnázium - ECPv6.15.20//NONSGML v1.0//EN
CALSCALE:GREGORIAN
METHOD:PUBLISH
X-ORIGINAL-URL:https://doczy.drk.hu
X-WR-CALDESC:Események Dóczy Gimnázium
REFRESH-INTERVAL;VALUE=DURATION:PT1H
X-Robots-Tag:noindex
X-PUBLISHED-TTL:PT1H
BEGIN:VTIMEZONE
TZID:UTC
BEGIN:STANDARD
TZOFFSETFROM:+0000
TZOFFSETTO:+0000
TZNAME:UTC
DTSTART:20190101T000000
END:STANDARD
END:VTIMEZONE
BEGIN:VEVENT
DTSTART;TZID=UTC:20210104T080000
DTEND;TZID=UTC:20210104T170000
DTSTAMP:20260421T110433
CREATED:20201214T093731Z
LAST-MODIFIED:20210929T094525Z
UID:5057-1609747200-1609779600@doczy.drk.hu
SUMMARY:2021 évi első tanítási nap
DESCRIPTION:
URL:https://doczy.drk.hu/event/2021-evi-elso-tanitasi-nap/
END:VEVENT
BEGIN:VEVENT
DTSTART;VALUE=DATE:20210103
DTEND;VALUE=DATE:20210104
DTSTAMP:20260421T110433
CREATED:20201214T093706Z
LAST-MODIFIED:20201214T093706Z
UID:5055-1609632000-1609718399@doczy.drk.hu
SUMMARY:Téli szünet utolsó napja
DESCRIPTION:
URL:https://doczy.drk.hu/event/teli-szunet-utolso-napja/
END:VEVENT
BEGIN:VEVENT
DTSTART;VALUE=DATE:20201221
DTEND;VALUE=DATE:20201222
DTSTAMP:20260421T110433
CREATED:20201214T093457Z
LAST-MODIFIED:20201214T093457Z
UID:5053-1608508800-1608595199@doczy.drk.hu
SUMMARY:Téli szünet első napja
DESCRIPTION:
URL:https://doczy.drk.hu/event/teli-szunet-elso-napja/
END:VEVENT
BEGIN:VEVENT
DTSTART;TZID=UTC:20201218T133000
DTEND;TZID=UTC:20201218T140000
DTSTAMP:20260421T110433
CREATED:20201214T091245Z
LAST-MODIFIED:20201214T091245Z
UID:5029-1608298200-1608300000@doczy.drk.hu
SUMMARY:Karácsonyi kibocsátó istentisztelet
DESCRIPTION:
URL:https://doczy.drk.hu/event/karacsonyi-kibocsato-istentisztelet/
END:VEVENT
END:VCALENDAR